BEGIN:VCALENDAR
VERSION:2.0
PRODID:-//82.165.162.158//NONSGML kigkonsult.se iCalcreator 2.20//
CALSCALE:GREGORIAN
METHOD:PUBLISH
X-WR-TIMEZONE:Europe/Berlin
BEGIN:VEVENT
UID:event0@Partycheck
DTSTAMP:20260425T111805Z
CATEGORIES:Oberstufe
DESCRIPTION:Wochenmarkt Stiftsplatz\nKategorie: Oberstufe\nICS-Link: https:
 //www.partycheck.org/index.php?option=com_jem&view=event&id=0:wochenmarkt-
 stiftsplatz&Itemid=288\n
DTSTART;TZID=Europe/Berlin:20260425T070000
DTEND;TZID=Europe/Berlin:20260425T133000
LOCATION:Stiftsplatz\,Stiftsplatz\,67657 Kaiserslautern\,Germany
SUMMARY:Wochenmarkt Stiftsplatz
URL:https://www.partycheck.org/index.php?option=com_jem&view=event&id=0:woc
 henmarkt-stiftsplatz&Itemid=288
END:VEVENT
BEGIN:VEVENT
UID:event0@Partycheck
DTSTAMP:20260425T111805Z
CATEGORIES:Oberstufe
DESCRIPTION:Wochenmarkt Stiftsplatz\nKategorie: Oberstufe\nICS-Link: https:
 //www.partycheck.org/index.php?option=com_jem&view=event&id=0:wochenmarkt-
 stiftsplatz&Itemid=288\n
DTSTART;TZID=Europe/Berlin:20260425T070000
DTEND;TZID=Europe/Berlin:20260425T133000
LOCATION:Stiftsplatz\,Stiftsplatz\,67657 Kaiserslautern\,Germany
SUMMARY:Wochenmarkt Stiftsplatz
URL:https://www.partycheck.org/index.php?option=com_jem&view=event&id=0:woc
 henmarkt-stiftsplatz&Itemid=288
END:VEVENT
BEGIN:VEVENT
UID:event0@Partycheck
DTSTAMP:20260425T111805Z
CATEGORIES:Oberstufe
DESCRIPTION:Wochenmarkt Stiftsplatz\nKategorie: Oberstufe\nICS-Link: https:
 //www.partycheck.org/index.php?option=com_jem&view=event&id=0:wochenmarkt-
 stiftsplatz&Itemid=288\n
DTSTART;TZID=Europe/Berlin:20260425T070000
DTEND;TZID=Europe/Berlin:20260425T133000
LOCATION:Stiftsplatz\,Stiftsplatz\,67657 Kaiserslautern\,Germany
SUMMARY:Wochenmarkt Stiftsplatz
URL:https://www.partycheck.org/index.php?option=com_jem&view=event&id=0:woc
 henmarkt-stiftsplatz&Itemid=288
END:VEVENT
BEGIN:VEVENT
UID:event0@Partycheck
DTSTAMP:20260425T111805Z
CATEGORIES:Oberstufe
DESCRIPTION:Wochenmarkt Stiftsplatz\nKategorie: Oberstufe\nICS-Link: https:
 //www.partycheck.org/index.php?option=com_jem&view=event&id=0:wochenmarkt-
 stiftsplatz&Itemid=288\n
DTSTART;TZID=Europe/Berlin:20260425T070000
DTEND;TZID=Europe/Berlin:20260425T133000
LOCATION:Stiftsplatz\,Stiftsplatz\,67657 Kaiserslautern\,Germany
SUMMARY:Wochenmarkt Stiftsplatz
URL:https://www.partycheck.org/index.php?option=com_jem&view=event&id=0:woc
 henmarkt-stiftsplatz&Itemid=288
END:VEVENT
BEGIN:VEVENT
UID:event0@Partycheck
DTSTAMP:20260425T111805Z
CATEGORIES:Oberstufe
DESCRIPTION:Wochenmarkt Stiftsplatz\nKategorie: Oberstufe\nICS-Link: https:
 //www.partycheck.org/index.php?option=com_jem&view=event&id=0:wochenmarkt-
 stiftsplatz&Itemid=288\n
DTSTART;TZID=Europe/Berlin:20260425T070000
DTEND;TZID=Europe/Berlin:20260425T133000
LOCATION:Stiftsplatz\,Stiftsplatz\,67657 Kaiserslautern\,Germany
SUMMARY:Wochenmarkt Stiftsplatz
URL:https://www.partycheck.org/index.php?option=com_jem&view=event&id=0:woc
 henmarkt-stiftsplatz&Itemid=288
END:VEVENT
BEGIN:VEVENT
UID:event0@Partycheck
DTSTAMP:20260425T111805Z
CATEGORIES:Oberstufe
DESCRIPTION:Wochenmarkt Stiftsplatz\nKategorie: Oberstufe\nICS-Link: https:
 //www.partycheck.org/index.php?option=com_jem&view=event&id=0:wochenmarkt-
 stiftsplatz&Itemid=288\n
DTSTART;TZID=Europe/Berlin:20260425T070000
DTEND;TZID=Europe/Berlin:20260425T133000
LOCATION:Stiftsplatz\,Stiftsplatz\,67657 Kaiserslautern\,Germany
SUMMARY:Wochenmarkt Stiftsplatz
URL:https://www.partycheck.org/index.php?option=com_jem&view=event&id=0:woc
 henmarkt-stiftsplatz&Itemid=288
END:VEVENT
BEGIN:VEVENT
UID:event0@Partycheck
DTSTAMP:20260425T111805Z
CATEGORIES:Oberstufe
DESCRIPTION:Wochenmarkt Stiftsplatz\nKategorie: Oberstufe\nICS-Link: https:
 //www.partycheck.org/index.php?option=com_jem&view=event&id=0:wochenmarkt-
 stiftsplatz&Itemid=288\n
DTSTART;TZID=Europe/Berlin:20260425T070000
DTEND;TZID=Europe/Berlin:20260425T133000
LOCATION:Stiftsplatz\,Stiftsplatz\,67657 Kaiserslautern\,Germany
SUMMARY:Wochenmarkt Stiftsplatz
URL:https://www.partycheck.org/index.php?option=com_jem&view=event&id=0:woc
 henmarkt-stiftsplatz&Itemid=288
END:VEVENT
BEGIN:VEVENT
UID:event0@Partycheck
DTSTAMP:20260425T111805Z
CATEGORIES:Oberstufe
DESCRIPTION:Wochenmarkt Stiftsplatz\nKategorie: Oberstufe\nICS-Link: https:
 //www.partycheck.org/index.php?option=com_jem&view=event&id=0:wochenmarkt-
 stiftsplatz&Itemid=288\n
DTSTART;TZID=Europe/Berlin:20260425T070000
DTEND;TZID=Europe/Berlin:20260425T133000
LOCATION:Stiftsplatz\,Stiftsplatz\,67657 Kaiserslautern\,Germany
SUMMARY:Wochenmarkt Stiftsplatz
URL:https://www.partycheck.org/index.php?option=com_jem&view=event&id=0:woc
 henmarkt-stiftsplatz&Itemid=288
END:VEVENT
BEGIN:VEVENT
UID:event0@Partycheck
DTSTAMP:20260425T111805Z
CATEGORIES:Oberstufe
DESCRIPTION:Wochenmarkt Stiftsplatz\nKategorie: Oberstufe\nICS-Link: https:
 //www.partycheck.org/index.php?option=com_jem&view=event&id=0:wochenmarkt-
 stiftsplatz&Itemid=288\n
DTSTART;TZID=Europe/Berlin:20260425T070000
DTEND;TZID=Europe/Berlin:20260425T133000
LOCATION:Stiftsplatz\,Stiftsplatz\,67657 Kaiserslautern\,Germany
SUMMARY:Wochenmarkt Stiftsplatz
URL:https://www.partycheck.org/index.php?option=com_jem&view=event&id=0:woc
 henmarkt-stiftsplatz&Itemid=288
END:VEVENT
BEGIN:VEVENT
UID:event0@Partycheck
DTSTAMP:20260425T111805Z
CATEGORIES:Oberstufe
DESCRIPTION:Wochenmarkt Stiftsplatz\nKategorie: Oberstufe\nICS-Link: https:
 //www.partycheck.org/index.php?option=com_jem&view=event&id=0:wochenmarkt-
 stiftsplatz&Itemid=288\n
DTSTART;TZID=Europe/Berlin:20260425T070000
DTEND;TZID=Europe/Berlin:20260425T133000
LOCATION:Stiftsplatz\,Stiftsplatz\,67657 Kaiserslautern\,Germany
SUMMARY:Wochenmarkt Stiftsplatz
URL:https://www.partycheck.org/index.php?option=com_jem&view=event&id=0:woc
 henmarkt-stiftsplatz&Itemid=288
END:VEVENT
END:VCALENDAR
