BEGIN:VCALENDAR
VERSION:2.0
PRODID:-//82.165.162.158//NONSGML kigkonsult.se iCalcreator 2.20//
CALSCALE:GREGORIAN
METHOD:PUBLISH
X-WR-TIMEZONE:Europe/Berlin
BEGIN:VEVENT
UID:event307@Partycheck
DTSTAMP:20260424T083009Z
CATEGORIES:Märkte
DESCRIPTION:Wochenmarkt Stiftsplatz\nKategorie: Märkte\nICS-Link: https://w
 ww.partycheck.org/index.php?option=com_jem&view=event&id=307:wochenmarkt-s
 tiftsplatz&Itemid=288\n
DTSTART;TZID=Europe/Berlin:20150131T070000
DTEND;TZID=Europe/Berlin:20150131T133000
LOCATION:Stiftsplatz\,Stiftsplatz\,67657 Kaiserslautern
SUMMARY:Wochenmarkt Stiftsplatz
URL:https://www.partycheck.org/index.php?option=com_jem&view=event&id=307:w
 ochenmarkt-stiftsplatz&Itemid=288
END:VEVENT
END:VCALENDAR
