BEGIN:VCALENDAR
VERSION:2.0
PRODID:-//82.165.162.158//NONSGML kigkonsult.se iCalcreator 2.20//
CALSCALE:GREGORIAN
METHOD:PUBLISH
X-WR-TIMEZONE:Europe/Berlin
BEGIN:VEVENT
UID:event1985@Partycheck
DTSTAMP:20260419T144620Z
CATEGORIES:Ü30
DESCRIPTION:Brown Sugar Vol. 2 Oldschool All Nighter\nKategorie: Ü30\nICS-L
 ink: https://www.partycheck.org/index.php?option=com_jem&view=event&id=198
 5:brown-sugar-vol-2-oldschool-all-nighter&Itemid=288\n
DTSTART;TZID=Europe/Berlin:20160206T223000
DTEND;TZID=Europe/Berlin:20160206T223000
LOCATION:Taco Kidd\,Merkurstr. 13\,67663 Kaiserslautern
SUMMARY:Brown Sugar Vol. 2 Oldschool All Nighter
URL:https://www.partycheck.org/index.php?option=com_jem&view=event&id=1985:
 brown-sugar-vol-2-oldschool-all-nighter&Itemid=288
END:VEVENT
END:VCALENDAR
