BEGIN:VCALENDAR
VERSION:2.0
PRODID:-//82.165.162.158//NONSGML kigkonsult.se iCalcreator 2.20//
CALSCALE:GREGORIAN
METHOD:PUBLISH
X-WR-TIMEZONE:Europe/Berlin
BEGIN:VEVENT
UID:event1486@Partycheck
DTSTAMP:20260421T102606Z
CATEGORIES:Ü30
DESCRIPTION:Love & Happiness Vol. 2 Oldschool All Nighter\nKategorie: Ü30\n
 ICS-Link: https://www.partycheck.org/index.php?option=com_jem&view=event&i
 d=1486:black-music-ue30-party&Itemid=288\n
DTSTART;TZID=Europe/Berlin:20151107T223000
DTEND;TZID=Europe/Berlin:20151107T223000
LOCATION:Taco Kidd\,Merkurstr. 13\,67663 Kaiserslautern
SUMMARY:Love & Happiness Vol. 2 Oldschool All Nighter
URL:https://www.partycheck.org/index.php?option=com_jem&view=event&id=1486:
 black-music-ue30-party&Itemid=288
END:VEVENT
END:VCALENDAR
