BEGIN:VCALENDAR
VERSION:2.0
PRODID:-//82.165.162.158//NONSGML kigkonsult.se iCalcreator 2.20//
CALSCALE:GREGORIAN
METHOD:PUBLISH
X-WR-TIMEZONE:Europe/Berlin
BEGIN:VEVENT
UID:event11229@Partycheck
DTSTAMP:20260424T083019Z
CATEGORIES:Party
DESCRIPTION:16 up Party\nKategorie: Party\nICS-Link: https://www.partycheck
 .org/index.php?option=com_jem&view=event&id=11229:16-up-party&Itemid=288\n
DTSTART;TZID=Europe/Berlin:20211217T200000
DTEND;TZID=Europe/Berlin:20211217T200000
LOCATION:Pflaumenbaum\,Martin Luther Str. 8\,67657 Kaiserslautern
SUMMARY:16 up Party
URL:https://www.partycheck.org/index.php?option=com_jem&view=event&id=11229
 :16-up-party&Itemid=288
END:VEVENT
END:VCALENDAR
