BEGIN:VCALENDAR
VERSION:2.0
PRODID:-//82.165.162.158//NONSGML kigkonsult.se iCalcreator 2.20//
CALSCALE:GREGORIAN
METHOD:PUBLISH
X-WR-TIMEZONE:Europe/Berlin
BEGIN:VEVENT
UID:event10424@Partycheck
DTSTAMP:20260422T085424Z
CATEGORIES:Rock
DESCRIPTION:Abwärts Rock and more\nKategorie: Rock\nICS-Link: https://www.p
 artycheck.org/index.php?option=com_jem&view=event&id=10424:191207_abwaerts
 -rock-and-more&Itemid=288\n
DTSTART;TZID=Europe/Berlin:20191207T220000
DTEND;TZID=Europe/Berlin:20191207T220000
LOCATION:Abwärts Musicclub\,Mühlstraße 43\,67659 Kaiserslautern
SUMMARY:Abwärts Rock and more
URL:https://www.partycheck.org/index.php?option=com_jem&view=event&id=10424
 :191207_abwaerts-rock-and-more&Itemid=288
END:VEVENT
END:VCALENDAR
