BEGIN:VCALENDAR
VERSION:2.0
PRODID:-//82.165.162.158//NONSGML kigkonsult.se iCalcreator 2.20//
CALSCALE:GREGORIAN
METHOD:PUBLISH
X-WR-TIMEZONE:Europe/Berlin
BEGIN:VEVENT
UID:event10402@Partycheck
DTSTAMP:20260423T082752Z
CATEGORIES:80er Jahre
DESCRIPTION:Abwärts Ü30 90er 2000er Party\nKategorie: 80er Jahre\nICS-Link:
  https://www.partycheck.org/index.php?option=com_jem&view=event&id=10402:1
 91130_abwaerts-ue30-90er-2000er-party&Itemid=288\n
DTSTART;TZID=Europe/Berlin:20191130T220000
DTEND;TZID=Europe/Berlin:20191130T220000
LOCATION:Abwärts Musicclub\,Mühlstraße 43\,67659 Kaiserslautern
SUMMARY:Abwärts Ü30 90er 2000er Party
URL:https://www.partycheck.org/index.php?option=com_jem&view=event&id=10402
 :191130_abwaerts-ue30-90er-2000er-party&Itemid=288
END:VEVENT
END:VCALENDAR
